BEGIN:VCALENDAR
VERSION:2.0
PRODID:-//Humber Freeport - ECPv6.15.17//NONSGML v1.0//EN
CALSCALE:GREGORIAN
METHOD:PUBLISH
X-WR-CALNAME:Humber Freeport
X-ORIGINAL-URL:https://humberfreeport.org
X-WR-CALDESC:Events for Humber Freeport
REFRESH-INTERVAL;VALUE=DURATION:PT1H
X-Robots-Tag:noindex
X-PUBLISHED-TTL:PT1H
BEGIN:VTIMEZONE
TZID:Europe/London
BEGIN:DAYLIGHT
TZOFFSETFROM:+0000
TZOFFSETTO:+0100
TZNAME:BST
DTSTART:20240331T010000
END:DAYLIGHT
BEGIN:STANDARD
TZOFFSETFROM:+0100
TZOFFSETTO:+0000
TZNAME:GMT
DTSTART:20241027T010000
END:STANDARD
BEGIN:DAYLIGHT
TZOFFSETFROM:+0000
TZOFFSETTO:+0100
TZNAME:BST
DTSTART:20250330T010000
END:DAYLIGHT
BEGIN:STANDARD
TZOFFSETFROM:+0100
TZOFFSETTO:+0000
TZNAME:GMT
DTSTART:20251026T010000
END:STANDARD
BEGIN:DAYLIGHT
TZOFFSETFROM:+0000
TZOFFSETTO:+0100
TZNAME:BST
DTSTART:20260329T010000
END:DAYLIGHT
BEGIN:STANDARD
TZOFFSETFROM:+0100
TZOFFSETTO:+0000
TZNAME:GMT
DTSTART:20261025T010000
END:STANDARD
END:VTIMEZONE
BEGIN:VEVENT
DTSTART;VALUE=DATE:20250429
DTEND;VALUE=DATE:20250501
DTSTAMP:20260424T054039
CREATED:20241029T155829Z
LAST-MODIFIED:20241029T155829Z
UID:5928-1745884800-1746057599@humberfreeport.org
SUMMARY:Innovation Zero 2025
DESCRIPTION:Humber Freeport will be exhibiting at Innovation Zero 2025 as part of the Humber Pavilion \nDate: 29th & 30th April 2025 \nVenue: Olympia\, London \nFree to attend with advance registration \nSupported by the UK Government\, Innovation Zero provides a space and opportunity for collaboration\, breaking down silos\, and overcoming obstacles to drive large-scale\, impactful progress towards global emissions reduction. \nInnovation Zero’s mission? To accelerate a just global transition to a low carbon economy by connecting innovators\, funders\, policymakers\, and business leaders. \nLearn more at https://www.innovationzero.com/
URL:https://humberfreeport.org/event/innovation-zero-2025/
LOCATION:London Olympia\, Hammersmith Road\, London\, W14 8UX\, United Kingdom
CATEGORIES:External event
ATTACH;FMTTYPE=image/png:https://humberfreeport.org/wp-content/uploads/2024/10/Innovation-Zero-wide.png
END:VEVENT
END:VCALENDAR