BEGIN:VCALENDAR
VERSION:2.0
PRODID:-//Humber Freeport - ECPv6.15.17//NONSGML v1.0//EN
CALSCALE:GREGORIAN
METHOD:PUBLISH
X-ORIGINAL-URL:https://humberfreeport.org
X-WR-CALDESC:Events for Humber Freeport
REFRESH-INTERVAL;VALUE=DURATION:PT1H
X-Robots-Tag:noindex
X-PUBLISHED-TTL:PT1H
BEGIN:VTIMEZONE
TZID:Europe/London
BEGIN:DAYLIGHT
TZOFFSETFROM:+0000
TZOFFSETTO:+0100
TZNAME:BST
DTSTART:20240331T010000
END:DAYLIGHT
BEGIN:STANDARD
TZOFFSETFROM:+0100
TZOFFSETTO:+0000
TZNAME:GMT
DTSTART:20241027T010000
END:STANDARD
BEGIN:DAYLIGHT
TZOFFSETFROM:+0000
TZOFFSETTO:+0100
TZNAME:BST
DTSTART:20250330T010000
END:DAYLIGHT
BEGIN:STANDARD
TZOFFSETFROM:+0100
TZOFFSETTO:+0000
TZNAME:GMT
DTSTART:20251026T010000
END:STANDARD
BEGIN:DAYLIGHT
TZOFFSETFROM:+0000
TZOFFSETTO:+0100
TZNAME:BST
DTSTART:20260329T010000
END:DAYLIGHT
BEGIN:STANDARD
TZOFFSETFROM:+0100
TZOFFSETTO:+0000
TZNAME:GMT
DTSTART:20261025T010000
END:STANDARD
END:VTIMEZONE
BEGIN:VEVENT
DTSTART;VALUE=DATE:20250520
DTEND;VALUE=DATE:20250523
DTSTAMP:20260424T054144
CREATED:20250115T123323Z
LAST-MODIFIED:20250115T123546Z
UID:7048-1747699200-1747958399@humberfreeport.org
SUMMARY:UKREiiF
DESCRIPTION:UKREiiF connects people\, places\, and businesses to accelerate and unlock sustainable\, inclusive\, and transformational investment. \nThis 3-day extravaganza is a perfect storm – bringing together a spectacular array of key decision-makers from every area of the built environment: the public sector – with every core UK city and region involved – alongside government\, investors\, funders\, developers\, housebuilders\, and more.
URL:https://humberfreeport.org/event/ukreiif/
LOCATION:The Royal Armouries\, Leeds\, The Royal Armouries\, Leeds\, LS10 1LT
CATEGORIES:External event
ATTACH;FMTTYPE=image/png:https://humberfreeport.org/wp-content/uploads/2025/01/UKREiiF-Logo-news-list-view.png
END:VEVENT
END:VCALENDAR