BEGIN:VCALENDAR
VERSION:2.0
PRODID:-//Humber Freeport - ECPv6.15.17//NONSGML v1.0//EN
CALSCALE:GREGORIAN
METHOD:PUBLISH
X-WR-CALNAME:Humber Freeport
X-ORIGINAL-URL:https://humberfreeport.org
X-WR-CALDESC:Events for Humber Freeport
REFRESH-INTERVAL;VALUE=DURATION:PT1H
X-Robots-Tag:noindex
X-PUBLISHED-TTL:PT1H
BEGIN:VTIMEZONE
TZID:Europe/London
BEGIN:DAYLIGHT
TZOFFSETFROM:+0000
TZOFFSETTO:+0100
TZNAME:BST
DTSTART:20240331T010000
END:DAYLIGHT
BEGIN:STANDARD
TZOFFSETFROM:+0100
TZOFFSETTO:+0000
TZNAME:GMT
DTSTART:20241027T010000
END:STANDARD
BEGIN:DAYLIGHT
TZOFFSETFROM:+0000
TZOFFSETTO:+0100
TZNAME:BST
DTSTART:20250330T010000
END:DAYLIGHT
BEGIN:STANDARD
TZOFFSETFROM:+0100
TZOFFSETTO:+0000
TZNAME:GMT
DTSTART:20251026T010000
END:STANDARD
BEGIN:DAYLIGHT
TZOFFSETFROM:+0000
TZOFFSETTO:+0100
TZNAME:BST
DTSTART:20260329T010000
END:DAYLIGHT
BEGIN:STANDARD
TZOFFSETFROM:+0100
TZOFFSETTO:+0000
TZNAME:GMT
DTSTART:20261025T010000
END:STANDARD
END:VTIMEZONE
BEGIN:VEVENT
DTSTART;TZID=Europe/London:20250918T100000
DTEND;TZID=Europe/London:20250918T140000
DTSTAMP:20260422T010904
CREATED:20250916T131607Z
LAST-MODIFIED:20250916T131607Z
UID:11630-1758189600-1758204000@humberfreeport.org
SUMMARY:RaisE Stakeholder Event: Discover Why Goole is the Ideal Location for Your Business
DESCRIPTION:Humber Freeport is pleased to be participating in the upcoming stakeholder event showcasing Goole’s growing reputation as a hub for rail investment and advanced manufacturing. Our Head of Investment\, Richard Beason\, will join a strong line-up of speakers to share how Humber Freeport is unlocking new opportunities for businesses and investors across the region. With Goole playing a vital role in the Freeport’s ambitious growth plans\, Richard’s insights will highlight how we are driving investment\, strengthening supply chains\, and supporting innovation at the heart of the Humber.
URL:https://humberfreeport.org/event/raise-stakeholder-event-discover-why-goole-is-the-ideal-location-for-your-business/
LOCATION:RaisE Business Centre\, Tom Pudding Way\, Goole\, DN14 6BS\, RaisE Business Centre\, DN14 6BS
CATEGORIES:External event
ATTACH;FMTTYPE=image/jpeg:https://humberfreeport.org/wp-content/uploads/2025/09/Goole-Freeport_DLP-ERYC-June23-6-scaled.jpg
END:VEVENT
END:VCALENDAR