BEGIN:VCALENDAR
VERSION:2.0
PRODID:-//Humber Freeport - ECPv6.15.17//NONSGML v1.0//EN
CALSCALE:GREGORIAN
METHOD:PUBLISH
X-WR-CALNAME:Humber Freeport
X-ORIGINAL-URL:https://humberfreeport.org
X-WR-CALDESC:Events for Humber Freeport
REFRESH-INTERVAL;VALUE=DURATION:PT1H
X-Robots-Tag:noindex
X-PUBLISHED-TTL:PT1H
BEGIN:VTIMEZONE
TZID:Europe/London
BEGIN:DAYLIGHT
TZOFFSETFROM:+0000
TZOFFSETTO:+0100
TZNAME:BST
DTSTART:20240331T010000
END:DAYLIGHT
BEGIN:STANDARD
TZOFFSETFROM:+0100
TZOFFSETTO:+0000
TZNAME:GMT
DTSTART:20241027T010000
END:STANDARD
BEGIN:DAYLIGHT
TZOFFSETFROM:+0000
TZOFFSETTO:+0100
TZNAME:BST
DTSTART:20250330T010000
END:DAYLIGHT
BEGIN:STANDARD
TZOFFSETFROM:+0100
TZOFFSETTO:+0000
TZNAME:GMT
DTSTART:20251026T010000
END:STANDARD
BEGIN:DAYLIGHT
TZOFFSETFROM:+0000
TZOFFSETTO:+0100
TZNAME:BST
DTSTART:20260329T010000
END:DAYLIGHT
BEGIN:STANDARD
TZOFFSETFROM:+0100
TZOFFSETTO:+0000
TZNAME:GMT
DTSTART:20261025T010000
END:STANDARD
END:VTIMEZONE
BEGIN:VEVENT
DTSTART;TZID=Europe/London:20251022T080000
DTEND;TZID=Europe/London:20251022T160000
DTSTAMP:20260421T235627
CREATED:20251010T095611Z
LAST-MODIFIED:20251010T095611Z
UID:11998-1761120000-1761148800@humberfreeport.org
SUMMARY:The Great Exhibition of Lincolnshire
DESCRIPTION:Humber Freeport will be exhibiting at Lincolnshire’s very first ‘Great Exhibition’ on 22 October 2025. \nInspired by the iconic Great Exhibition of 1851\, this new landmark event has been championed by the elected Mayor\, Dame Andrea\, to showcase the region’s strengths\, opportunities and ambition. Just as the Victorian era was defined by innovation and industrial growth\, Lincolnshire’s Great Exhibition will spotlight the businesses\, projects and partnerships shaping the future of our economy.
URL:https://humberfreeport.org/event/the-great-exhibition-of-lincolnshire/
LOCATION:Lincolnshire Showground\, Lincoln LN2 2NA
ATTACH;FMTTYPE=image/png:https://humberfreeport.org/wp-content/uploads/2025/10/The_Great_Exhibition_Logo_Collage_746x400_1x.png
END:VEVENT
END:VCALENDAR