BEGIN:VCALENDAR
VERSION:2.0
PRODID:-//Humber Freeport - ECPv6.15.17//NONSGML v1.0//EN
CALSCALE:GREGORIAN
METHOD:PUBLISH
X-ORIGINAL-URL:https://humberfreeport.org
X-WR-CALDESC:Events for Humber Freeport
REFRESH-INTERVAL;VALUE=DURATION:PT1H
X-Robots-Tag:noindex
X-PUBLISHED-TTL:PT1H
BEGIN:VTIMEZONE
TZID:Europe/London
BEGIN:DAYLIGHT
TZOFFSETFROM:+0000
TZOFFSETTO:+0100
TZNAME:BST
DTSTART:20250330T010000
END:DAYLIGHT
BEGIN:STANDARD
TZOFFSETFROM:+0100
TZOFFSETTO:+0000
TZNAME:GMT
DTSTART:20251026T010000
END:STANDARD
BEGIN:DAYLIGHT
TZOFFSETFROM:+0000
TZOFFSETTO:+0100
TZNAME:BST
DTSTART:20260329T010000
END:DAYLIGHT
BEGIN:STANDARD
TZOFFSETFROM:+0100
TZOFFSETTO:+0000
TZNAME:GMT
DTSTART:20261025T010000
END:STANDARD
BEGIN:DAYLIGHT
TZOFFSETFROM:+0000
TZOFFSETTO:+0100
TZNAME:BST
DTSTART:20270328T010000
END:DAYLIGHT
BEGIN:STANDARD
TZOFFSETFROM:+0100
TZOFFSETTO:+0000
TZNAME:GMT
DTSTART:20271031T010000
END:STANDARD
END:VTIMEZONE
BEGIN:VEVENT
DTSTART;TZID=Europe/London:20260326T093000
DTEND;TZID=Europe/London:20260326T160000
DTSTAMP:20260421T165514
CREATED:20260109T110654Z
LAST-MODIFIED:20260109T110654Z
UID:13589-1774517400-1774540800@humberfreeport.org
SUMMARY:Industrial Connections NEL
DESCRIPTION:Following the highly successful inaugural Industrial Connections NEL in March 2025\, the event will return in 2026\, bringing together industrial businesses and supply chain organisations from across North East Lincolnshire. \nIndustrial Connections NEL is a full-day exhibition and networking event designed exclusively for industrial sector businesses\, providing a platform to connect\, collaborate and explore new opportunities across the region’s key industries. \nHumber Freeport will be exhibiting at Industrial Connections NEL 2026\, showcasing how Freeport status is supporting investment\, innovation and growth across North East Lincolnshire’s industrial economy. The team will be on hand to discuss opportunities for businesses operating within\, or looking to engage with\, the Freeport.
URL:https://humberfreeport.org/event/industrial-connections-nel/
LOCATION:Grimsby Auditorium\, Cromwell Rd\, Grimsby DN31 2BH\, Grimsby\, DN31 2BH
CATEGORIES:External event
ATTACH;FMTTYPE=image/jpeg:https://humberfreeport.org/wp-content/uploads/2026/01/2025_03_25_12_05_15_IMG4126-Enhanced-NR-2-600x400-1.jpg
END:VEVENT
END:VCALENDAR