BEGIN:VCALENDAR
VERSION:2.0
PRODID:-//Humber Freeport - ECPv6.15.17//NONSGML v1.0//EN
CALSCALE:GREGORIAN
METHOD:PUBLISH
X-WR-CALNAME:Humber Freeport
X-ORIGINAL-URL:https://humberfreeport.org
X-WR-CALDESC:Events for Humber Freeport
REFRESH-INTERVAL;VALUE=DURATION:PT1H
X-Robots-Tag:noindex
X-PUBLISHED-TTL:PT1H
BEGIN:VTIMEZONE
TZID:Europe/London
BEGIN:DAYLIGHT
TZOFFSETFROM:+0000
TZOFFSETTO:+0100
TZNAME:BST
DTSTART:20220327T010000
END:DAYLIGHT
BEGIN:STANDARD
TZOFFSETFROM:+0100
TZOFFSETTO:+0000
TZNAME:GMT
DTSTART:20221030T010000
END:STANDARD
BEGIN:DAYLIGHT
TZOFFSETFROM:+0000
TZOFFSETTO:+0100
TZNAME:BST
DTSTART:20230326T010000
END:DAYLIGHT
BEGIN:STANDARD
TZOFFSETFROM:+0100
TZOFFSETTO:+0000
TZNAME:GMT
DTSTART:20231029T010000
END:STANDARD
BEGIN:DAYLIGHT
TZOFFSETFROM:+0000
TZOFFSETTO:+0100
TZNAME:BST
DTSTART:20240331T010000
END:DAYLIGHT
BEGIN:STANDARD
TZOFFSETFROM:+0100
TZOFFSETTO:+0000
TZNAME:GMT
DTSTART:20241027T010000
END:STANDARD
BEGIN:DAYLIGHT
TZOFFSETFROM:+0000
TZOFFSETTO:+0100
TZNAME:BST
DTSTART:20250330T010000
END:DAYLIGHT
BEGIN:STANDARD
TZOFFSETFROM:+0100
TZOFFSETTO:+0000
TZNAME:GMT
DTSTART:20251026T010000
END:STANDARD
END:VTIMEZONE
BEGIN:VEVENT
DTSTART;TZID=Europe/London:20240430T152000
DTEND;TZID=Europe/London:20240430T155000
DTSTAMP:20260422T235306
CREATED:20240422T084811Z
LAST-MODIFIED:20240422T085550Z
UID:3710-1714490400-1714492200@humberfreeport.org
SUMMARY:Energy and Innovation: Humber Freeport - East Hull Tax Site
DESCRIPTION:Discover the future of investment opportunities within Humber Freeport at the “Energy and Innovation: Humber Freeport – Hull East Tax Site” panel on April 30th from 3:20 to 3:50 at the Humber Pavilion. \nDate: 30th April 2024 \nTime: 3:20 pm – 3:50 pm \nVenue: The Humber Pavilion\, Innovation Zero 2024\, London Olympia \nJoin Simon Green\, CEO of Humber Freeport\, as he unveils the compelling benefits of investing in the Humber Freeport. Learn about the exceptional infrastructure and utilities available at the Hull East Tax Site\, making it an ideal hub for innovative projects and private sector partnerships. \nEngage with industry leaders\, and hear from partners such as px Group and Meld Energy\, operating and investing in Hull East Tax Site\, as they showcase their groundbreaking projects and demonstrate the innovation and growth potential of this strategic location. \nDon’t miss this exclusive event to explore investment prospects and network with key players shaping the future of Humber Freeport. \nHumber Freeport Innovation Zero Energy and Innovation panel event
URL:https://humberfreeport.org/event/energy-and-innovation-humber-freeport-east-hull-tax-site/
LOCATION:London Olympia\, Hammersmith Road\, London\, W14 8UX\, United Kingdom
CATEGORIES:Humber Freeport
ATTACH;FMTTYPE=image/png:https://humberfreeport.org/wp-content/uploads/2024/04/Humber-Freeport-at-Innovation-Zero-2024-1.png
END:VEVENT
BEGIN:VEVENT
DTSTART;TZID=Europe/London:20240430T080000
DTEND;TZID=Europe/London:20240501T170000
DTSTAMP:20260422T235306
CREATED:20240416T154608Z
LAST-MODIFIED:20240417T152018Z
UID:3599-1714464000-1714582800@humberfreeport.org
SUMMARY:Innovation Zero 2024
DESCRIPTION:Humber Freeport are exhibiting at Innovation Zero as part of the Humber Pavilion \nInnovation Zero\, the UK’s largest sustainability conference\, returns to London Olympia for the second edition on 30 April – 1 May 2024\, alongside its new co-located event\, Infrastructure Zero. \nSupported by the UK Government\, Innovation Zero provides a meeting place for announcements\, partnerships\, deal-making\, and collaborations for those who develop\, produce\, deploy\, and fund low carbon solutions. \nInnovation Zero’s mission? To accelerate meaningful action towards a low carbon economy and society​. \nEnergy and Innovation: Hull East Freeport \nThe Humber Pavilion\, Day 1 April 30th\, 3.20pm to 3.50pm. \nPlease join us on the Humber Pavilion to hear from Simon Green\, CEO of Humber Freeport who will host a panel talk about what’s happening in the Hull East site of Humber Freeport. Simon will be joined by representatives from px group\, Meld Energy and Pensana. No need to book.
URL:https://humberfreeport.org/event/innovation-zero-2024/
LOCATION:London Olympia\, Hammersmith Road\, London\, W14 8UX\, United Kingdom
CATEGORIES:External event
ATTACH;FMTTYPE=image/png:https://humberfreeport.org/wp-content/uploads/2024/04/800x358-1.png
END:VEVENT
BEGIN:VEVENT
DTSTART;TZID=Europe/London:20231123T090000
DTEND;TZID=Europe/London:20231123T133000
DTSTAMP:20260422T235306
CREATED:20231201T143610Z
LAST-MODIFIED:20231205T145525Z
UID:1991-1700730000-1700746200@humberfreeport.org
SUMMARY:Humber Freeport Innovation Liaison Group Business Engagement Event
DESCRIPTION:This event has ended. You can learn more about it at FILG Business Engagement Event \n\n\nThursday\, 23 November 2023\nORE Catapult – O&M Centre of Excellence\, Port Office\, Cleethorpe Road\, Grimsby\, DN31 3LL\n\n\nThe Humber Freeport Innovation Liaison Group (FILG) Business Engagement Event is taking place on Thursday 23rd November. \nAre you based in the Humber region? Keen to understand how the Humber Freeport is relevant to you and can help support your growth and create new opportunities? Interested to know how the changes can assist your plans and goals? \nWith government funding having been announced to support the growth of emerging green industries\, we are delighted to share with you our aspirations for the Humber Freeport Innovation Collective and want to hear from YOU on what you think works best when it comes to business support for innovation and future change. We want to know if we are focusing enough on responding to your real priorities and needs. \nWHO SHOULD ATTEND? \nRepresentatives from SMEs and larger companies located within the Humber region at Managing Director level or equivalent. \nAGENDA \nArrival and Breakfast: 9am \nIntroduction by Freeport CEO & Chair of FILG: 9:30am \nPanel discussion: 9:40am \nQuestions to panel: 10:20am \nRefreshment break: 10:40am \nFacilitated discussion groups: 10:55am \nFeedback: 11:55am \nOptional 5G testbed visit: 12:40pm \nEvent close: 1:40pm \nFacilitated discussion groups will provide an opportunity to share your views\, ideas and challenges; hear from companies and organisations that have successfully worked through persistent barriers; and contribute to shaping business support mechanisms to fit your individual requirements. \nKeep connected \nFollow HEY Growth Hub on LinkedIn \nFollow HEY LEP on LinkedIn \nFollow Greater Lincolnshire LEP on LinkedIn \nFollow Business Lincolnshire on LinkedIn
URL:https://humberfreeport.org/event/humber-freeport-innovation-liaison-group-business-engagement-event/
LOCATION:O&M Centre of Excellence\, Port Office\, Cleethorpe Road\, Grimsby\, DN31 3LL\, United Kingdom
CATEGORIES:Innovation event
ATTACH;FMTTYPE=image/png:https://humberfreeport.org/wp-content/uploads/2023/10/freeport-email-banner-new-location.png
END:VEVENT
END:VCALENDAR