BEGIN:VCALENDAR
VERSION:2.0
PRODID:-//Humber Freeport - ECPv6.15.17//NONSGML v1.0//EN
CALSCALE:GREGORIAN
METHOD:PUBLISH
X-WR-CALNAME:Humber Freeport
X-ORIGINAL-URL:https://humberfreeport.org
X-WR-CALDESC:Events for Humber Freeport
REFRESH-INTERVAL;VALUE=DURATION:PT1H
X-Robots-Tag:noindex
X-PUBLISHED-TTL:PT1H
BEGIN:VTIMEZONE
TZID:Europe/London
BEGIN:DAYLIGHT
TZOFFSETFROM:+0000
TZOFFSETTO:+0100
TZNAME:BST
DTSTART:20230326T010000
END:DAYLIGHT
BEGIN:STANDARD
TZOFFSETFROM:+0100
TZOFFSETTO:+0000
TZNAME:GMT
DTSTART:20231029T010000
END:STANDARD
BEGIN:DAYLIGHT
TZOFFSETFROM:+0000
TZOFFSETTO:+0100
TZNAME:BST
DTSTART:20240331T010000
END:DAYLIGHT
BEGIN:STANDARD
TZOFFSETFROM:+0100
TZOFFSETTO:+0000
TZNAME:GMT
DTSTART:20241027T010000
END:STANDARD
BEGIN:DAYLIGHT
TZOFFSETFROM:+0000
TZOFFSETTO:+0100
TZNAME:BST
DTSTART:20250330T010000
END:DAYLIGHT
BEGIN:STANDARD
TZOFFSETFROM:+0100
TZOFFSETTO:+0000
TZNAME:GMT
DTSTART:20251026T010000
END:STANDARD
END:VTIMEZONE
BEGIN:VEVENT
DTSTART;TZID=Europe/London:20240521T080000
DTEND;TZID=Europe/London:20240523T170000
DTSTAMP:20260425T020354
CREATED:20240417T152540Z
LAST-MODIFIED:20240417T154605Z
UID:3618-1716278400-1716483600@humberfreeport.org
SUMMARY:UKREiiF 2024
DESCRIPTION:UKREiiF connects people\, places and businesses to accelerate and unlock sustainable\, inclusive and transformational investment. \nThis 3-day event will bring together the public sector – with every core UK city and region involved – alongside Government\, investors\, funders\, developers\, housebuilders and more. \nUKREiiF has become the must-attend event in the industry and we’re delighted to be expecting a major increase on the already impressive numbers in 2023. \n\n\nIn 2024 we expect: \n\n10\,000+ Event Attendees\n2\,500+ Fringe Event Attendees\n700+ Speakers Across 30 Stages\n150 Exhibitors\n100+ Fringe Events\n250+ Local Authorities Attending\n1500+ Investors Attending\n750+ Occupiers Attending\n1500+ Developers Attending\n\n\n\nSupported by a high number of regional combined authorities\, local councils and Government departments – as well as the largest developers and investors from across the UK and internationally – this event will gather all the key players\, influencers and decision makers within the investment and real estate markets to highlight investment and development opportunities\, whilst connecting and facilitating new relationships to drive economic growth through development and regeneration. \nThe UK needs this platform for the public sector to showcase the scale of development progress and profile future investment opportunities to investors\, developers and occupiers from around the globe that is based right here in the UK – this event does just that. \n  \nDay 1 – Tuesday 21st May \nMarkets and Sectors Pavilion \n09:30 am to 10:30 am \n\nUKREiiF Sector Insights: Ports – Futureproofing Sustainable Business Growth\nIan Henderson\, Head of Property at Associated British Ports (ABP) will open the session with a keynote introduction about the Ports sector and ABP’s view on the current market conditions and also the phenomenal opportunities in the market that have been created by Freeports and Investment zones. \nSponsored by Associated British Ports (ABP). \nSpeakers include: \n\n\n\n \nChair: Helen Thomas – Head of Property in Wales and Short Sea Ports\, Associated British Ports \n\n\n\n\n \nClare Bottle – CEO\, UK Warehousing Association \n\n\n\n\n \nJohn Williams – Managing Director\, Maritime Transport \n\n\n\n\n \nJonan Boto – Strategy and Growth Executive\, Associated British Ports \n\n\n\n\n \nMark Wray – Ecosystem Director for Maritime and Ports\, Connected Places Catapult \n\n\n\n\n \nSimon Green – Chief Executive\, Humber Freeport
URL:https://humberfreeport.org/event/ukreiif-2024/
LOCATION:The Royal Armouries\, Leeds\, The Royal Armouries\, Leeds\, LS10 1LT
CATEGORIES:External event
ATTACH;FMTTYPE=image/png:https://humberfreeport.org/wp-content/uploads/2024/03/Screenshot-2024-03-15-150954.png
END:VEVENT
END:VCALENDAR