BEGIN:VCALENDAR
VERSION:2.0
PRODID:-//Humber Freeport - ECPv6.15.17//NONSGML v1.0//EN
CALSCALE:GREGORIAN
METHOD:PUBLISH
X-WR-CALNAME:Humber Freeport
X-ORIGINAL-URL:https://humberfreeport.org
X-WR-CALDESC:Events for Humber Freeport
REFRESH-INTERVAL;VALUE=DURATION:PT1H
X-Robots-Tag:noindex
X-PUBLISHED-TTL:PT1H
BEGIN:VTIMEZONE
TZID:Europe/London
BEGIN:DAYLIGHT
TZOFFSETFROM:+0000
TZOFFSETTO:+0100
TZNAME:BST
DTSTART:20240331T010000
END:DAYLIGHT
BEGIN:STANDARD
TZOFFSETFROM:+0100
TZOFFSETTO:+0000
TZNAME:GMT
DTSTART:20241027T010000
END:STANDARD
BEGIN:DAYLIGHT
TZOFFSETFROM:+0000
TZOFFSETTO:+0100
TZNAME:BST
DTSTART:20250330T010000
END:DAYLIGHT
BEGIN:STANDARD
TZOFFSETFROM:+0100
TZOFFSETTO:+0000
TZNAME:GMT
DTSTART:20251026T010000
END:STANDARD
BEGIN:DAYLIGHT
TZOFFSETFROM:+0000
TZOFFSETTO:+0100
TZNAME:BST
DTSTART:20260329T010000
END:DAYLIGHT
BEGIN:STANDARD
TZOFFSETFROM:+0100
TZOFFSETTO:+0000
TZNAME:GMT
DTSTART:20261025T010000
END:STANDARD
END:VTIMEZONE
BEGIN:VEVENT
DTSTART;VALUE=DATE:20250924
DTEND;VALUE=DATE:20250925
DTSTAMP:20260422T034511
CREATED:20250916T131019Z
LAST-MODIFIED:20250916T131150Z
UID:11624-1758672000-1758758399@humberfreeport.org
SUMMARY:North Green Skills Conference 2025
DESCRIPTION:Humber Freeport is proud to be exhibiting at the North Green Skills Conference 2025\, an event that highlights the vital link between skills\, sustainability\, and the UK’s future growth. As the nation’s largest and most connected freeport\, we are driving inward investment\, creating high-quality jobs\, and building the talent pipeline needed to deliver net zero. This conference provides an important platform to share how the Humber is leading the way in shaping a skilled\, resilient\, and future-ready workforce.
URL:https://humberfreeport.org/event/north-green-skills-conference-2025/
LOCATION:Hull Guildhall\, Alfred Gelder Street\, Hull\, UK\, The Guildhall\, Hull\, HU1 2AA\, United Kingdom
CATEGORIES:External event
ATTACH;FMTTYPE=image/png:https://humberfreeport.org/wp-content/uploads/2025/09/Screenshot-2025-09-16-140633.png
END:VEVENT
END:VCALENDAR